BEGIN:VCALENDAR
VERSION:2.0
PRODID:SchoolNow
CALSCALE:GREGORIAN
BEGIN:VEVENT
UID:983af5ba-c5e0-11ed-aed0-0e3d1f2a25a1
DTSTAMP:20230318T225953Z
SUMMARY:Family Movie Night - Apr. 13
LOCATION:Theatre
URL;VALUE=URI:https://www.wildernesslakecdd.org/calendar/3889222/family-mov
 ie-night-apr-13
DTSTART:20230413T220000Z
DTEND:20230413T233000Z
END:VEVENT
END:VCALENDAR
