BEGIN:VCALENDAR
VERSION:2.0
PRODID:SchoolNow
CALSCALE:GREGORIAN
BEGIN:VEVENT
UID:85bae396-c5e0-11ed-b8a4-0e3d1f2a25a1
DTSTAMP:20230318T225922Z
SUMMARY:Family Movie Night - Apr. 6th
LOCATION:Theatre
URL;VALUE=URI:https://www.wildernesslakecdd.org/calendar/3889221/family-mov
 ie-night-apr-6th
DTSTART:20230406T220000Z
DTEND:20230406T233000Z
END:VEVENT
END:VCALENDAR
