BEGIN:VCALENDAR
VERSION:2.0
PRODID:SchoolNow
CALSCALE:GREGORIAN
BEGIN:VEVENT
UID:6d128f7e-c5e0-11ed-ba73-0e3d1f2a25a1
DTSTAMP:20230318T225841Z
SUMMARY:Family Movie Morning - Apr. 25th
LOCATION:Theatre
URL;VALUE=URI:https://www.wildernesslakecdd.org/calendar/3889220/family-mov
 ie-morning-apr-25th
DTSTART:20230425T140000Z
DTEND:20230425T153000Z
END:VEVENT
END:VCALENDAR
