BEGIN:VCALENDAR
VERSION:2.0
PRODID:SchoolNow
CALSCALE:GREGORIAN
BEGIN:VEVENT
UID:60e525d6-c5e0-11ed-b442-0e3d1f2a25a1
DTSTAMP:20230318T225820Z
SUMMARY:Family Movie Morning - Apr. 18th
LOCATION:Theatre
URL;VALUE=URI:https://www.wildernesslakecdd.org/calendar/3889219/family-mov
 ie-morning-apr-18th
DTSTART:20230418T140000Z
DTEND:20230418T153000Z
END:VEVENT
END:VCALENDAR
