BEGIN:VCALENDAR
VERSION:2.0
PRODID:SchoolNow
CALSCALE:GREGORIAN
BEGIN:VEVENT
UID:540d5cfc-c5e0-11ed-a7c3-0e3d1f2a25a1
DTSTAMP:20230318T225759Z
SUMMARY:Family Movie Morning - Apr. 11th
LOCATION:Theatre
URL;VALUE=URI:https://www.wildernesslakecdd.org/calendar/3889218/family-mov
 ie-morning-apr-11th
DTSTART:20230411T140000Z
DTEND:20230411T153000Z
END:VEVENT
END:VCALENDAR
