BEGIN:VCALENDAR
VERSION:2.0
PRODID:SchoolNow
CALSCALE:GREGORIAN
BEGIN:VEVENT
UID:3ca1756c-c5e0-11ed-baaa-0e3d1f2a25a1
DTSTAMP:20230318T225719Z
SUMMARY:Family Movie Morning - Apr. 4th
LOCATION:Theatre
URL;VALUE=URI:https://www.wildernesslakecdd.org/calendar/3889217/family-mov
 ie-morning-apr-4th
DTSTART:20230404T140000Z
DTEND:20230404T153000Z
END:VEVENT
END:VCALENDAR
