BEGIN:VCALENDAR
VERSION:2.0
PRODID:SchoolNow
CALSCALE:GREGORIAN
BEGIN:VEVENT
UID:dd31be68-c5d3-11ed-aad0-0acd76f80fb7
DTSTAMP:20230318T213003Z
SUMMARY:Pickleball - Apr. 27th
URL;VALUE=URI:https://www.wildernesslakecdd.org/calendar/3889215/pickleball
 -apr-27th
DTSTART:20230427T223000Z
DTEND:20230427T233000Z
END:VEVENT
END:VCALENDAR
