BEGIN:VCALENDAR
VERSION:2.0
PRODID:SchoolNow
CALSCALE:GREGORIAN
BEGIN:VEVENT
UID:dd311daa-c5d3-11ed-ac18-0acd76f80fb7
DTSTAMP:20230318T212937Z
SUMMARY:Pickleball - Apr. 25th
URL;VALUE=URI:https://www.wildernesslakecdd.org/calendar/3889214/pickleball
 -apr-25th
DTSTART:20230425T223000Z
DTEND:20230425T233000Z
END:VEVENT
END:VCALENDAR
