BEGIN:VCALENDAR
VERSION:2.0
PRODID:SchoolNow
CALSCALE:GREGORIAN
BEGIN:VEVENT
UID:dd307cce-c5d3-11ed-addc-0acd76f80fb7
DTSTAMP:20230318T212920Z
SUMMARY:Pickleball - Apr. 20th
URL;VALUE=URI:https://www.wildernesslakecdd.org/calendar/3889213/pickleball
 -apr-20th
DTSTART:20230420T223000Z
DTEND:20230420T233000Z
END:VEVENT
END:VCALENDAR
