BEGIN:VCALENDAR
VERSION:2.0
PRODID:SchoolNow
CALSCALE:GREGORIAN
BEGIN:VEVENT
UID:dd2f61fe-c5d3-11ed-a882-0acd76f80fb7
DTSTAMP:20230318T212901Z
SUMMARY:Pickleball - Apr. 18th
URL;VALUE=URI:https://www.wildernesslakecdd.org/calendar/3889212/pickleball
 -apr-18th
DTSTART:20230418T223000Z
DTEND:20230418T233000Z
END:VEVENT
END:VCALENDAR
