BEGIN:VCALENDAR
VERSION:2.0
PRODID:SchoolNow
CALSCALE:GREGORIAN
BEGIN:VEVENT
UID:b99c0e7c-c5d3-11ed-a508-0acd76f80fb7
DTSTAMP:20230318T212820Z
SUMMARY:Pickleball - Apr. 13th
URL;VALUE=URI:https://www.wildernesslakecdd.org/calendar/3889211/pickleball
 -apr-13th
DTSTART:20230413T223000Z
DTEND:20230413T233000Z
END:VEVENT
END:VCALENDAR
