BEGIN:VCALENDAR
VERSION:2.0
PRODID:SchoolNow
CALSCALE:GREGORIAN
BEGIN:VEVENT
UID:b99a20b2-c5d3-11ed-bf4d-0acd76f80fb7
DTSTAMP:20230318T212802Z
SUMMARY:Pickleball - Apr. 11th
URL;VALUE=URI:https://www.wildernesslakecdd.org/calendar/3889210/pickleball
 -apr-11th
DTSTART:20230411T223000Z
DTEND:20230411T233000Z
END:VEVENT
END:VCALENDAR
