BEGIN:VCALENDAR
VERSION:2.0
PRODID:SchoolNow
CALSCALE:GREGORIAN
BEGIN:VEVENT
UID:b4d4f3ea-c5d3-11ed-95e6-0acd76f80fb7
DTSTAMP:20230318T212738Z
SUMMARY:Pickleball - Apr. 6th
URL;VALUE=URI:https://www.wildernesslakecdd.org/calendar/3889209/pickleball
 -apr-6th
DTSTART:20230406T223000Z
DTEND:20230406T233000Z
END:VEVENT
END:VCALENDAR
