BEGIN:VCALENDAR
VERSION:2.0
PRODID:SchoolNow
CALSCALE:GREGORIAN
BEGIN:VEVENT
UID:a984f3aa-c5d3-11ed-93c6-0acd76f80fb7
DTSTAMP:20230318T212719Z
SUMMARY:Pickleball - Apr. 4th
URL;VALUE=URI:https://www.wildernesslakecdd.org/calendar/3889208/pickleball
 -apr-4th
DTSTART:20230404T223000Z
DTEND:20230404T233000Z
END:VEVENT
END:VCALENDAR
