BEGIN:VCALENDAR
VERSION:2.0
PRODID:SchoolNow
CALSCALE:GREGORIAN
BEGIN:VEVENT
UID:4d12ae8c-c5d3-11ed-801c-0acd76f80fb7
DTSTAMP:20230318T212552Z
SUMMARY:Yoga - Apr. 27th - Class 2
URL;VALUE=URI:https://www.wildernesslakecdd.org/calendar/3889207/yoga-apr-2
 7th-class-2
DTSTART:20230427T135500Z
DTEND:20230427T145500Z
END:VEVENT
END:VCALENDAR
