BEGIN:VCALENDAR
VERSION:2.0
PRODID:SchoolNow
CALSCALE:GREGORIAN
BEGIN:VEVENT
UID:4d11ddcc-c5d3-11ed-9c23-0acd76f80fb7
DTSTAMP:20230318T212504Z
SUMMARY:Yoga - Apr. 25th - Class 1
URL;VALUE=URI:https://www.wildernesslakecdd.org/calendar/3889206/yoga-apr-2
 5th-class-1
DTSTART:20230425T124500Z
DTEND:20230425T134500Z
END:VEVENT
END:VCALENDAR
