BEGIN:VCALENDAR
VERSION:2.0
PRODID:SchoolNow
CALSCALE:GREGORIAN
BEGIN:VEVENT
UID:4d11311a-c5d3-11ed-9842-0acd76f80fb7
DTSTAMP:20230318T212444Z
SUMMARY:Yoga - Apr. 18th - Class 2
URL;VALUE=URI:https://www.wildernesslakecdd.org/calendar/3889205/yoga-apr-1
 8th-class-2
DTSTART:20230418T135500Z
DTEND:20230418T145500Z
END:VEVENT
END:VCALENDAR
