BEGIN:VCALENDAR
VERSION:2.0
PRODID:SchoolNow
CALSCALE:GREGORIAN
BEGIN:VEVENT
UID:4d10257c-c5d3-11ed-ae56-0acd76f80fb7
DTSTAMP:20230318T212444Z
SUMMARY:Yoga - Apr. 20th - Class 1
URL;VALUE=URI:https://www.wildernesslakecdd.org/calendar/3889204/yoga-apr-2
 0th-class-1
DTSTART:20230420T124500Z
DTEND:20230420T134500Z
END:VEVENT
END:VCALENDAR
