BEGIN:VCALENDAR
VERSION:2.0
PRODID:SchoolNow
CALSCALE:GREGORIAN
BEGIN:VEVENT
UID:164826ac-c5d3-11ed-be64-0acd76f80fb7
DTSTAMP:20230318T212431Z
SUMMARY:Yoga - Apr. 20th - Class 2
URL;VALUE=URI:https://www.wildernesslakecdd.org/calendar/3889203/yoga-apr-2
 0th-class-2
DTSTART:20230420T135500Z
DTEND:20230420T145500Z
END:VEVENT
END:VCALENDAR
