BEGIN:VCALENDAR
VERSION:2.0
PRODID:SchoolNow
CALSCALE:GREGORIAN
BEGIN:VEVENT
UID:1646c38e-c5d3-11ed-9fd4-0acd76f80fb7
DTSTAMP:20230318T212332Z
SUMMARY:Yoga - Apr. 18th - Class 1
URL;VALUE=URI:https://www.wildernesslakecdd.org/calendar/3889202/yoga-apr-1
 8th-class-1
DTSTART:20230418T124500Z
DTEND:20230418T134500Z
END:VEVENT
END:VCALENDAR
