BEGIN:VCALENDAR
VERSION:2.0
PRODID:SchoolNow
CALSCALE:GREGORIAN
BEGIN:VEVENT
UID:16440bd0-c5d3-11ed-b2d1-0acd76f80fb7
DTSTAMP:20230318T212312Z
SUMMARY:Yoga - Apr. 11th - Class 2
URL;VALUE=URI:https://www.wildernesslakecdd.org/calendar/3889201/yoga-apr-1
 1th-class-2
DTSTART:20230411T135500Z
DTEND:20230411T145500Z
END:VEVENT
END:VCALENDAR
