BEGIN:VCALENDAR
VERSION:2.0
PRODID:SchoolNow
CALSCALE:GREGORIAN
BEGIN:VEVENT
UID:163f8326-c5d3-11ed-93cc-0acd76f80fb7
DTSTAMP:20230318T212312Z
SUMMARY:Yoga - Apr. 13th - Class 1
URL;VALUE=URI:https://www.wildernesslakecdd.org/calendar/3889200/yoga-apr-1
 3th-class-1
DTSTART:20230413T124500Z
DTEND:20230413T134500Z
END:VEVENT
END:VCALENDAR
