BEGIN:VCALENDAR
VERSION:2.0
PRODID:SchoolNow
CALSCALE:GREGORIAN
BEGIN:VEVENT
UID:e37b5118-c5d2-11ed-b75b-0acd76f80fb7
DTSTAMP:20230318T212256Z
SUMMARY:Yoga - Apr. 13th - Class 2
URL;VALUE=URI:https://www.wildernesslakecdd.org/calendar/3889199/yoga-apr-1
 3th-class-2
DTSTART:20230413T135500Z
DTEND:20230413T145500Z
END:VEVENT
END:VCALENDAR
