BEGIN:VCALENDAR
VERSION:2.0
PRODID:SchoolNow
CALSCALE:GREGORIAN
BEGIN:VEVENT
UID:e37aadda-c5d2-11ed-8824-0acd76f80fb7
DTSTAMP:20230318T212207Z
SUMMARY:Yoga - Apr. 11th - Class 1
URL;VALUE=URI:https://www.wildernesslakecdd.org/calendar/3889198/yoga-apr-1
 1th-class-1
DTSTART:20230411T124500Z
DTEND:20230411T134500Z
END:VEVENT
END:VCALENDAR
