BEGIN:VCALENDAR
VERSION:2.0
PRODID:SchoolNow
CALSCALE:GREGORIAN
BEGIN:VEVENT
UID:e37a0970-c5d2-11ed-af17-0acd76f80fb7
DTSTAMP:20230318T212146Z
SUMMARY:Yoga - Apr. 4th - Class 2
URL;VALUE=URI:https://www.wildernesslakecdd.org/calendar/3889197/yoga-apr-4
 th-class-2
DTSTART:20230404T135500Z
DTEND:20230404T145500Z
END:VEVENT
END:VCALENDAR
