BEGIN:VCALENDAR
VERSION:2.0
PRODID:SchoolNow
CALSCALE:GREGORIAN
BEGIN:VEVENT
UID:e378f850-c5d2-11ed-8ee6-0acd76f80fb7
DTSTAMP:20230318T212146Z
SUMMARY:Yoga - Apr. 6th - Class 1
URL;VALUE=URI:https://www.wildernesslakecdd.org/calendar/3889196/yoga-apr-6
 th-class-1
DTSTART:20230406T124500Z
DTEND:20230406T134500Z
END:VEVENT
END:VCALENDAR
