BEGIN:VCALENDAR
VERSION:2.0
PRODID:SchoolNow
CALSCALE:GREGORIAN
BEGIN:VEVENT
UID:c7806188-c5d2-11ed-b986-0acd76f80fb7
DTSTAMP:20230318T212114Z
SUMMARY:Yoga - Apr. 6th - Class 2
URL;VALUE=URI:https://www.wildernesslakecdd.org/calendar/3889195/yoga-apr-6
 th-class-2
DTSTART:20230406T135500Z
DTEND:20230406T145500Z
END:VEVENT
END:VCALENDAR
