BEGIN:VCALENDAR
VERSION:2.0
PRODID:SchoolNow
CALSCALE:GREGORIAN
BEGIN:VEVENT
UID:c77f5ea0-c5d2-11ed-b672-0acd76f80fb7
DTSTAMP:20230318T212059Z
SUMMARY:Yoga - Apr. 4th - Class 1
URL;VALUE=URI:https://www.wildernesslakecdd.org/calendar/3889194/yoga-apr-4
 th-class-1
DTSTART:20230404T124500Z
DTEND:20230404T134500Z
END:VEVENT
END:VCALENDAR
