BEGIN:VCALENDAR
VERSION:2.0
PRODID:SchoolNow
CALSCALE:GREGORIAN
BEGIN:VEVENT
UID:9f589b12-c5d2-11ed-9157-0acd76f80fb7
DTSTAMP:20230318T211952Z
SUMMARY:Yoga - Mar. 30th - Class 2
URL;VALUE=URI:https://www.wildernesslakecdd.org/calendar/3889193/yoga-mar-3
 0th-class-2
DTSTART:20230330T135500Z
DTEND:20230330T145500Z
END:VEVENT
END:VCALENDAR
