BEGIN:VCALENDAR
VERSION:2.0
PRODID:SchoolNow
CALSCALE:GREGORIAN
BEGIN:VEVENT
UID:9f578ace-c5d2-11ed-ad9b-0acd76f80fb7
DTSTAMP:20230318T211952Z
SUMMARY:Yoga - Mar. 30th - Class 1
URL;VALUE=URI:https://www.wildernesslakecdd.org/calendar/3889192/yoga-mar-3
 0th-class-1
DTSTART:20230330T124500Z
DTEND:20230330T134500Z
END:VEVENT
END:VCALENDAR
