BEGIN:VCALENDAR
VERSION:2.0
PRODID:SchoolNow
CALSCALE:GREGORIAN
BEGIN:VEVENT
UID:8b39ef5a-c5d2-11ed-8d37-0acd76f80fb7
DTSTAMP:20230318T211918Z
SUMMARY:Mahjong - Apr. 24th
URL;VALUE=URI:https://www.wildernesslakecdd.org/calendar/3889191/mahjong-ap
 r-24th
DTSTART:20230424T170000Z
DTEND:20230424T190000Z
END:VEVENT
END:VCALENDAR
