BEGIN:VCALENDAR
VERSION:2.0
PRODID:SchoolNow
CALSCALE:GREGORIAN
BEGIN:VEVENT
UID:815ea106-c5d2-11ed-a1c3-0acd76f80fb7
DTSTAMP:20230318T211902Z
SUMMARY:Mahjong - Apr. 17th
URL;VALUE=URI:https://www.wildernesslakecdd.org/calendar/3889190/mahjong-ap
 r-17th
DTSTART:20230417T170000Z
DTEND:20230417T190000Z
END:VEVENT
END:VCALENDAR
