BEGIN:VCALENDAR
VERSION:2.0
PRODID:SchoolNow
CALSCALE:GREGORIAN
BEGIN:VEVENT
UID:78cddb60-c5d2-11ed-bd1d-0acd76f80fb7
DTSTAMP:20230318T211847Z
SUMMARY:Mahjong - Apr. 10th
URL;VALUE=URI:https://www.wildernesslakecdd.org/calendar/3889189/mahjong-ap
 r-10th
DTSTART:20230410T170000Z
DTEND:20230410T190000Z
END:VEVENT
END:VCALENDAR
