BEGIN:VCALENDAR
VERSION:2.0
PRODID:SchoolNow
CALSCALE:GREGORIAN
BEGIN:VEVENT
UID:688f4306-c5d2-11ed-90bc-0acd76f80fb7
DTSTAMP:20230318T211820Z
SUMMARY:Mahjong - Apr. 3rd
URL;VALUE=URI:https://www.wildernesslakecdd.org/calendar/3889188/mahjong-ap
 r-3rd
DTSTART:20230403T170000Z
DTEND:20230403T190000Z
END:VEVENT
END:VCALENDAR
