BEGIN:VCALENDAR
VERSION:2.0
PRODID:SchoolNow
CALSCALE:GREGORIAN
BEGIN:VEVENT
UID:53e5c664-c5d2-11ed-b0ba-0acd76f80fb7
DTSTAMP:20230318T211745Z
SUMMARY:Storytime - Apr. 24th
URL;VALUE=URI:https://www.wildernesslakecdd.org/calendar/3889187/storytime-
 apr-24th
DTSTART:20230424T140000Z
DTEND:20230424T150000Z
END:VEVENT
END:VCALENDAR
