BEGIN:VCALENDAR
VERSION:2.0
PRODID:SchoolNow
CALSCALE:GREGORIAN
BEGIN:VEVENT
UID:3df3ea2a-c5d2-11ed-8b9b-0acd76f80fb7
DTSTAMP:20230318T211709Z
SUMMARY:Storytime - Apr. 17th
URL;VALUE=URI:https://www.wildernesslakecdd.org/calendar/3889186/storytime-
 apr-17th
DTSTART:20230417T140000Z
DTEND:20230417T150000Z
END:VEVENT
END:VCALENDAR
