BEGIN:VCALENDAR
VERSION:2.0
PRODID:SchoolNow
CALSCALE:GREGORIAN
BEGIN:VEVENT
UID:3307f3b8-c5d2-11ed-ad12-0acd76f80fb7
DTSTAMP:20230318T211650Z
SUMMARY:Storytime - Apr. 10th
URL;VALUE=URI:https://www.wildernesslakecdd.org/calendar/3889185/storytime-
 apr-10th
DTSTART:20230410T140000Z
DTEND:20230410T150000Z
END:VEVENT
END:VCALENDAR
