BEGIN:VCALENDAR
VERSION:2.0
PRODID:SchoolNow
CALSCALE:GREGORIAN
BEGIN:VEVENT
UID:1f2fd4d2-c5d2-11ed-b2f2-0acd76f80fb7
DTSTAMP:20230318T211617Z
SUMMARY:Storytime - Apr. 3rd
URL;VALUE=URI:https://www.wildernesslakecdd.org/calendar/3889184/storytime-
 apr-3rd
DTSTART:20230403T140000Z
DTEND:20230403T150000Z
END:VEVENT
END:VCALENDAR
