BEGIN:VCALENDAR
VERSION:2.0
PRODID:SchoolNow
CALSCALE:GREGORIAN
BEGIN:VEVENT
UID:d8779732-c5d1-11ed-8e6a-0acd76f80fb7
DTSTAMP:20230318T211523Z
SUMMARY:Walking & Toning - Apr. 28th
URL;VALUE=URI:https://www.wildernesslakecdd.org/calendar/3889183/walking-to
 ning-apr-28th
DTSTART:20230428T133000Z
DTEND:20230428T144500Z
END:VEVENT
END:VCALENDAR
