BEGIN:VCALENDAR
VERSION:2.0
PRODID:SchoolNow
CALSCALE:GREGORIAN
BEGIN:VEVENT
UID:d875c65a-c5d1-11ed-920b-0acd76f80fb7
DTSTAMP:20230318T211438Z
SUMMARY:Walking & Toning - Apr. 24th
URL;VALUE=URI:https://www.wildernesslakecdd.org/calendar/3889181/walking-to
 ning-apr-24th
DTSTART:20230424T133000Z
DTEND:20230424T144500Z
END:VEVENT
END:VCALENDAR
