BEGIN:VCALENDAR
VERSION:2.0
PRODID:SchoolNow
CALSCALE:GREGORIAN
BEGIN:VEVENT
UID:a7fb2c68-c5d1-11ed-b33d-0acd76f80fb7
DTSTAMP:20230318T211349Z
SUMMARY:Walking & Toning - Apr. 21st
URL;VALUE=URI:https://www.wildernesslakecdd.org/calendar/3889180/walking-to
 ning-apr-21st
DTSTART:20230421T133000Z
DTEND:20230421T144500Z
END:VEVENT
END:VCALENDAR
