BEGIN:VCALENDAR
VERSION:2.0
PRODID:SchoolNow
CALSCALE:GREGORIAN
BEGIN:VEVENT
UID:a7fa8006-c5d1-11ed-beec-0acd76f80fb7
DTSTAMP:20230318T211332Z
SUMMARY:Walking & Toning - Apr. 19th
URL;VALUE=URI:https://www.wildernesslakecdd.org/calendar/3889179/walking-to
 ning-apr-19th
DTSTART:20230419T133000Z
DTEND:20230419T144500Z
END:VEVENT
END:VCALENDAR
