BEGIN:VCALENDAR
VERSION:2.0
PRODID:SchoolNow
CALSCALE:GREGORIAN
BEGIN:VEVENT
UID:a7f975e4-c5d1-11ed-a82a-0acd76f80fb7
DTSTAMP:20230318T211316Z
SUMMARY:Walking & Toning - Apr. 17th
URL;VALUE=URI:https://www.wildernesslakecdd.org/calendar/3889178/walking-to
 ning-apr-17th
DTSTART:20230417T133000Z
DTEND:20230417T144500Z
END:VEVENT
END:VCALENDAR
