BEGIN:VCALENDAR
VERSION:2.0
PRODID:SchoolNow
CALSCALE:GREGORIAN
BEGIN:VEVENT
UID:7454f222-c5d1-11ed-8f81-0acd76f80fb7
DTSTAMP:20230318T211233Z
SUMMARY:Walking & Toning - Apr. 14th
URL;VALUE=URI:https://www.wildernesslakecdd.org/calendar/3889177/walking-to
 ning-apr-14th
DTSTART:20230414T133000Z
DTEND:20230414T144500Z
END:VEVENT
END:VCALENDAR
