BEGIN:VCALENDAR
VERSION:2.0
PRODID:SchoolNow
CALSCALE:GREGORIAN
BEGIN:VEVENT
UID:745435c6-c5d1-11ed-9eac-0acd76f80fb7
DTSTAMP:20230318T211219Z
SUMMARY:Walking & Toning - Apr. 12th
URL;VALUE=URI:https://www.wildernesslakecdd.org/calendar/3889176/walking-to
 ning-apr-12th
DTSTART:20230412T133000Z
DTEND:20230412T144500Z
END:VEVENT
END:VCALENDAR
