BEGIN:VCALENDAR
VERSION:2.0
PRODID:SchoolNow
CALSCALE:GREGORIAN
BEGIN:VEVENT
UID:7452fcce-c5d1-11ed-892c-0acd76f80fb7
DTSTAMP:20230318T211150Z
SUMMARY:Walking & Toning - Apr. 10th
URL;VALUE=URI:https://www.wildernesslakecdd.org/calendar/3889175/walking-to
 ning-apr-10th
DTSTART:20230410T133000Z
DTEND:20230410T144500Z
END:VEVENT
END:VCALENDAR
