BEGIN:VCALENDAR
VERSION:2.0
PRODID:SchoolNow
CALSCALE:GREGORIAN
BEGIN:VEVENT
UID:6f386634-c5d1-11ed-9401-0acd76f80fb7
DTSTAMP:20230318T211122Z
SUMMARY:Walking & Toning - Apr. 7th
URL;VALUE=URI:https://www.wildernesslakecdd.org/calendar/3889174/walking-to
 ning-apr-7th
DTSTART:20230407T133000Z
DTEND:20230407T144500Z
END:VEVENT
END:VCALENDAR
