BEGIN:VCALENDAR
VERSION:2.0
PRODID:SchoolNow
CALSCALE:GREGORIAN
BEGIN:VEVENT
UID:621803a6-c5d1-11ed-b69c-0acd76f80fb7
DTSTAMP:20230318T211100Z
SUMMARY:Walking & Toning - Apr. 5th
URL;VALUE=URI:https://www.wildernesslakecdd.org/calendar/3889173/walking-to
 ning-apr-5th
DTSTART:20230405T133000Z
DTEND:20230405T144500Z
END:VEVENT
END:VCALENDAR
