BEGIN:VCALENDAR
VERSION:2.0
PRODID:SchoolNow
CALSCALE:GREGORIAN
BEGIN:VEVENT
UID:50750860-c5d1-11ed-ab82-0acd76f80fb7
DTSTAMP:20230318T211030Z
SUMMARY:Walking & Toning - Apr. 3rd
URL;VALUE=URI:https://www.wildernesslakecdd.org/calendar/3889172/walking-to
 ning-apr-3rd
DTSTART:20230403T133000Z
DTEND:20230403T144500Z
END:VEVENT
END:VCALENDAR
