BEGIN:VCALENDAR
VERSION:2.0
PRODID:SchoolNow
CALSCALE:GREGORIAN
BEGIN:VEVENT
UID:e7742b48-c5d0-11ed-b205-0acd76f80fb7
DTSTAMP:20230318T210933Z
SUMMARY:Water Aerobics - Apr. 28th
URL;VALUE=URI:https://www.wildernesslakecdd.org/calendar/3889171/water-aero
 bics-apr-28th
DTSTART:20230428T130000Z
DTEND:20230428T140000Z
END:VEVENT
END:VCALENDAR
